BEGIN:VCALENDAR
VERSION:2.0
PRODID:-//wp-events-plugin.com//7.2.3.1//EN
TZID:America/Chicago
X-WR-TIMEZONE:America/Chicago
BEGIN:VEVENT
UID:5@southtexasworkforce.org
DTSTART;TZID=America/Chicago:20260410T090000
DTEND;TZID=America/Chicago:20260410T130000
DTSTAMP:20260402T165629Z
URL:https://southtexasworkforce.org/events/texas-department-of-criminal-ju
 stice-04-10-26-2/
SUMMARY:Texas Department of Criminal Justice 04.10.26
DESCRIPTION:Hiring for: Correctional Officers\n\n 	Full-Time\n 	Minimum Age
 : 18\n 	High School Diploma\n 	or Equivalent\n 	willing to train\n 	Minimu
 m Salary: $25.21/HR\n 	Maximum Salary: $31.23/HR\n
ATTACH;FMTTYPE=image/jpeg:https://southtexasworkforce.org/wp-content/uploa
 ds/2026/02/TDCJ-03.13.2026.jpg
LOCATION:Workforce Solutions for South Texas\, 1406 Jacaman Rd. Suite A\, L
 aredo\, TX\, 78041\, South Texas\, United States
X-APPLE-STRUCTURED-LOCATION;VALUE=URI;X-ADDRESS=1406 Jacaman Rd. Suite A\, 
 Laredo\, TX\, 78041\, South Texas\, United States;X-APPLE-RADIUS=100;X-TIT
 LE=Workforce Solutions for South Texas:geo:0,0
END:VEVENT
BEGIN:VEVENT
UID:4@southtexasworkforce.org
DTSTART;TZID=America/Chicago:20260417T090000
DTEND;TZID=America/Chicago:20260417T130000
DTSTAMP:20260402T164848Z
URL:https://southtexasworkforce.org/events/texas-department-of-criminals-j
 ustice-04-17-26/
SUMMARY:Texas Department of Criminals Justice 04.17.26
DESCRIPTION:Hiring for: Correctional Officers\n\n 	Full-Time\n 	Minimum Age
 : 18\n 	High School Diploma\n 	or Equivalent\n 	willing to train\n 	Minimu
 m Salary: $25.21/HR\n 	Maximum Salary: $31.23/HR\n
ATTACH;FMTTYPE=image/jpeg:https://southtexasworkforce.org/wp-content/uploa
 ds/2026/02/TDCJ-03.13.2026.jpg
LOCATION:Workforce Solutions for South Texas\, 1406 Jacaman Rd. Suite A\, L
 aredo\, TX\, 78041\, South Texas\, United States
X-APPLE-STRUCTURED-LOCATION;VALUE=URI;X-ADDRESS=1406 Jacaman Rd. Suite A\, 
 Laredo\, TX\, 78041\, South Texas\, United States;X-APPLE-RADIUS=100;X-TIT
 LE=Workforce Solutions for South Texas:geo:0,0
END:VEVENT
BEGIN:VEVENT
UID:2@southtexasworkforce.org
DTSTART;TZID=America/Chicago:20260421T100000
DTEND;TZID=America/Chicago:20260421T140000
DTSTAMP:20260402T164316Z
URL:https://southtexasworkforce.org/events/wsi-hiring-event/
SUMMARY:WSI Hiring Event
DESCRIPTION:16964898-Laobr\n16965972-Forklift Operator\n16965964-Reviser\n1
 6965932-Excange Guard\n16965923-Compliance Assistant\n16965979-Scanners\n1
 6969456-Operational Administrative Analyst\n16969475-Receipt Assistant\n16
 969542-Office Clerk\n16969532-Traffic Clerk
ATTACH;FMTTYPE=image/jpeg:https://southtexasworkforce.org/wp-content/uploa
 ds/2026/04/Level-Up-Job-Fair-1.png
LOCATION:Workforce Solutions for South Texas\, 1406 Jacaman Rd. Suite A\, L
 aredo\, TX\, 78041\, South Texas\, United States
X-APPLE-STRUCTURED-LOCATION;VALUE=URI;X-ADDRESS=1406 Jacaman Rd. Suite A\, 
 Laredo\, TX\, 78041\, South Texas\, United States;X-APPLE-RADIUS=100;X-TIT
 LE=Workforce Solutions for South Texas:geo:0,0
END:VEVENT
BEGIN:VTIMEZONE
TZID:America/Chicago
X-LIC-LOCATION:America/Chicago
BEGIN:DAYLIGHT
DTSTART:20260308T030000
TZOFFSETFROM:-0600
TZOFFSETTO:-0500
TZNAME:CDT
END:DAYLIGHT
END:VTIMEZONE
END:VCALENDAR